BEGIN:VCALENDAR
VERSION:2.0
PRODID:-//Tukios.com/
BEGIN:VEVENT
UID:b223b654-4fe4-4782-99c0-c592b966fec2@www.muellerfh.net
DTSTAMP:20260424T200910Z
DTSTART:20260429T140000Z
DTEND:20260429T160000Z
SUMMARY:Visitation
DESCRIPTION:
URL:https://www.muellerfh.net/obituaries/gail-miller
LOCATION:St. Mary’s Catholic Church 730 Madison Avenue  Omro WI 54963
GEO:44.0337283;-88.7421455
END:VEVENT
END:VCALENDAR