BEGIN:VCALENDAR
VERSION:2.0
PRODID:-//Tukios.com/
BEGIN:VEVENT
UID:7ab2ab2d-5d6c-45a3-89e5-306f4c0385c3@www.muellerfh.net
DTSTAMP:20260424T200942Z
DTSTART:20260429T160000Z
DTEND:20260429T170000Z
SUMMARY:Mass of Christian Burial
DESCRIPTION:
URL:https://www.muellerfh.net/obituaries/gail-miller
LOCATION:St. Mary’s Catholic Church 730 Madison Avenue  Omro WI 54963
GEO:44.0336923;-88.7421654
END:VEVENT
END:VCALENDAR