BEGIN:VCALENDAR
VERSION:2.0
PRODID:-//Tukios.com/
BEGIN:VEVENT
UID:859efba0-0dba-4d21-8e2e-fbfd8f6f339c@www.muellerfh.net
DTSTAMP:20260423T172837Z
DTSTART:20260502T143000Z
DTEND:20260502T160000Z
SUMMARY:Visitation
DESCRIPTION:
URL:https://www.muellerfh.net/obituaries/june-breaker
LOCATION:Grace Lutheran Church 8396 Steeple Hill Drive  Larsen WI 54947
GEO:44.1948259;-88.6644877
END:VEVENT
END:VCALENDAR