BEGIN:VCALENDAR
VERSION:2.0
PRODID:-//Tukios.com/
BEGIN:VEVENT
UID:3c025406-5441-4611-975f-a2adabe3ea29@www.muellerfh.net
DTSTAMP:20260423T172626Z
DTSTART:20260502T160000Z
DTEND:20260502T170000Z
SUMMARY:Memorial Service
DESCRIPTION:
URL:https://www.muellerfh.net/obituaries/june-breaker
LOCATION:Grace Lutheran Church 8396 Steeple Hill Drive  Larsen WI 54947
GEO:44.1948259;-88.6644877
END:VEVENT
END:VCALENDAR