BEGIN:VCALENDAR
VERSION:2.0
PRODID:-//Tukios.com/
BEGIN:VEVENT
UID:ff1106ec-7850-4a2e-b8d3-8f6b104b47a5@www.muellerfh.net
DTSTAMP:20260420T180254Z
DTSTART:20260424T160000Z
DTEND:20260424T170000Z
SUMMARY:Mass
DESCRIPTION:
URL:https://www.muellerfh.net/obituaries/loretta-dolske
LOCATION:St Mary’s Catholic Church- Omro 730 Madison Avenue  Omro WI 
	54963
GEO:44.0337283;-88.7421455
END:VEVENT
END:VCALENDAR