BEGIN:VCALENDAR
VERSION:2.0
PRODID:-//Tukios.com/
BEGIN:VEVENT
UID:5cd1ca64-128a-49b4-8295-50448d7efd11@www.muellerfh.net
DTSTAMP:20260420T180602Z
DTSTART:20260424T140000Z
DTEND:20260424T160000Z
SUMMARY:Visitation
DESCRIPTION:
URL:https://www.muellerfh.net/obituaries/loretta-dolske
LOCATION:St Mary’s Catholic Church- Omro 730 Madison Avenue  Omro WI 
	54963
GEO:44.0337283;-88.7421455
END:VEVENT
END:VCALENDAR